BEGIN:VCALENDAR
VERSION:2.0
PRODID:-//93.104.209.128//NONSGML kigkonsult.se iCalcreator 2.26.9//
CALSCALE:GREGORIAN
METHOD:PUBLISH
X-FROM-URL:https://scoutswiltz.lu
X-WR-TIMEZONE:Europe/Luxembourg
BEGIN:VTIMEZONE
TZID:Europe/Luxembourg
X-LIC-LOCATION:Europe/Luxembourg
BEGIN:STANDARD
DTSTART:20191027T030000
TZOFFSETFROM:+0200
TZOFFSETTO:+0100
RDATE:20201025T030000
TZNAME:CET
END:STANDARD
BEGIN:DAYLIGHT
DTSTART:20200329T020000
TZOFFSETFROM:+0100
TZOFFSETTO:+0200
RDATE:20210328T020000
TZNAME:CEST
END:DAYLIGHT
END:VTIMEZONE
BEGIN:VEVENT
UID:ai1ec-2444@scoutswiltz.lu
DTSTAMP:20200126T100038Z
CATEGORIES;LANGUAGE=fr-FR:Amicale\,AvEx\,CaraPio\,Chefs\,RaRo\,WiWel
CONTACT:
DESCRIPTION:
DTSTART;TZID=Europe/Luxembourg:20171121T180000
DTEND;TZID=Europe/Luxembourg:20171121T220000
GEO:+49.96591;+5.951419
LOCATION:Chalet Jim @ Toutschemillen\, 9576 Wolz\, Luxembourg
SEQUENCE:0
SUMMARY:Elterenowend
X-COST-TYPE:free
END:VEVENT
BEGIN:VEVENT
UID:ai1ec-2449@scoutswiltz.lu
DTSTAMP:20200126T100038Z
CATEGORIES;LANGUAGE=fr-FR:Amicale\,ASBL\,AvEx\,CaraPio\,Chefs\,RaRo\,WiWel
CONTACT:
DESCRIPTION:<p>Sebastianifeier:</p>\n<p>10h45     Treffen bei der Kierch zu
  Nidderwooltz</p>\n<p>11h00     Mass</p>\n<p>12h00     Verspiechensfeier +
  Badges</p>\n<p>12h30     Patt + Iessen zu Eschweiler “an der Gaessen”</p>
 \n<p>15h00     Schluss</p>\n<p>Umeldung:  bis 17.01.2018   Tél: 95 81 99  
 oder scoutswi@pt.lu </p>
DTSTART;TZID=Europe/Luxembourg:20180121T110000
DTEND;TZID=Europe/Luxembourg:20180121T160000
SEQUENCE:0
SUMMARY:Sebastianifeier
X-COST-TYPE:free
END:VEVENT
END:VCALENDAR
